BEGIN:VCALENDAR
VERSION:2.0
PRODID:-//CACEA | Canadian Association of Consulting Energy Advisors - ECPv6.15.17.1//NONSGML v1.0//EN
CALSCALE:GREGORIAN
METHOD:PUBLISH
X-WR-CALNAME:CACEA | Canadian Association of Consulting Energy Advisors
X-ORIGINAL-URL:https://staging.cacea.ca
X-WR-CALDESC:Events for CACEA | Canadian Association of Consulting Energy Advisors
REFRESH-INTERVAL;VALUE=DURATION:PT1H
X-Robots-Tag:noindex
X-PUBLISHED-TTL:PT1H
BEGIN:VTIMEZONE
TZID:America/Toronto
BEGIN:DAYLIGHT
TZOFFSETFROM:-0500
TZOFFSETTO:-0400
TZNAME:EDT
DTSTART:20250309T070000
END:DAYLIGHT
BEGIN:STANDARD
TZOFFSETFROM:-0400
TZOFFSETTO:-0500
TZNAME:EST
DTSTART:20251102T060000
END:STANDARD
BEGIN:DAYLIGHT
TZOFFSETFROM:-0500
TZOFFSETTO:-0400
TZNAME:EDT
DTSTART:20260308T070000
END:DAYLIGHT
BEGIN:STANDARD
TZOFFSETFROM:-0400
TZOFFSETTO:-0500
TZNAME:EST
DTSTART:20261101T060000
END:STANDARD
BEGIN:DAYLIGHT
TZOFFSETFROM:-0500
TZOFFSETTO:-0400
TZNAME:EDT
DTSTART:20270314T070000
END:DAYLIGHT
BEGIN:STANDARD
TZOFFSETFROM:-0400
TZOFFSETTO:-0500
TZNAME:EST
DTSTART:20271107T060000
END:STANDARD
END:VTIMEZONE
BEGIN:VEVENT
DTSTART;TZID=America/Toronto:20260326T123000
DTEND;TZID=America/Toronto:20260326T150000
DTSTAMP:20260424T194314
CREATED:20260306T004042Z
LAST-MODIFIED:20260309T173843Z
UID:11242-1774528200-1774537200@staging.cacea.ca
SUMMARY:CSA F280-12 DHL/DHG Analysis Using a Room-by-Room Approach
DESCRIPTION:This training is only for participants who have successfully completed the CSA Whole House training* and provides additional instruction on performing CSA F280 room-by-room heat loss and heat gain calculations using Volta Snap. Through two case studies\, participants will learn how to apply these calculations for ductless heat pump selection and the design of air distribution systems in both existing and new homes. \nCEC = 2.5. Successful CACEA members will be listed on our website. \n*Registration is only open to those who successfully completed CACEA’s or the Canadian Greener Homes Community’s CSA F280 Whole-House training. CACEA will offer the full and updated CSA F280 Training using Volta SNAP in the Spring. \n\n\nREGISTRATION FEES: $25 + tax \nCancellation Policy: Cancellations will be accepted up to March 19\, 2026. A $10 administration fee will be applied. Refunds will not be issued for cancellations after March 19\, 2026.\n \nNOTE: This course will be delivered in the Eastern time zone. \n\n\nAfter you register with CACEA\, please check your confirmation email and complete the Zoom registration requirements in order to receive your unique meeting link. Check your spam folder if you do not see it.
URL:https://staging.cacea.ca/event/csa-f280-12-dhl-dhg-analysis-using-a-room-by-room-approach/
LOCATION:Virtual via Zoom\, Canada
CATEGORIES:Training
END:VEVENT
END:VCALENDAR