BEGIN:VCALENDAR
VERSION:2.0
PRODID:-//CACEA | Canadian Association of Consulting Energy Advisors - ECPv6.15.17.1//NONSGML v1.0//EN
CALSCALE:GREGORIAN
METHOD:PUBLISH
X-ORIGINAL-URL:https://staging.cacea.ca
X-WR-CALDESC:Events for CACEA | Canadian Association of Consulting Energy Advisors
REFRESH-INTERVAL;VALUE=DURATION:PT1H
X-Robots-Tag:noindex
X-PUBLISHED-TTL:PT1H
BEGIN:VTIMEZONE
TZID:UTC
BEGIN:STANDARD
TZOFFSETFROM:+0000
TZOFFSETTO:+0000
TZNAME:UTC
DTSTART:20240101T000000
END:STANDARD
END:VTIMEZONE
BEGIN:VEVENT
DTSTART;TZID=UTC:20251204T120000
DTEND;TZID=UTC:20251204T133000
DTSTAMP:20260424T233349
CREATED:20251027T135557Z
LAST-MODIFIED:20251103T150127Z
UID:1912-1764849600-1764855000@staging.cacea.ca
SUMMARY:Unlocking Efficiency: Drain Water Heat Recovery for Multi-Unit Residential Buildings
DESCRIPTION:Marc Fontaine from EcoInnovation Technologies will provide a comprehensive overview of Drain Water Heat Recovery (DWHR) systems. Learn more about: \n\nthe construction of DWHR\, working principles\, and history of adoption\ndifferent installation configurations\, performance and efficiency\, and \nhow DWHR integrates with various water heater and building types\, including multi-unit residential buildings. \n\nThe session also will provide guidance on selecting the right unit\, practical installation examples\, and the use of energy recovery calculation tools.\n \nThis event is open to CACEA members only at no charge. (CEC = 1.5) \nPlease note that this online event will take place in the Eastern Time Zone. \nAfter you register with CACEA\, please check your confirmation email and complete the second step of the registration in Zoom in order to receive your unique webinar link. Check your spam folder if you do not see it. \nWant to take advantage of the free webinar?  JOIN CACEA NOW!
URL:https://staging.cacea.ca/event/unlocking-efficiency-drain-water-heat-recovery-for-multi-unit-residential-buildings/
LOCATION:Virtual via Zoom\, Canada
CATEGORIES:Training
END:VEVENT
END:VCALENDAR